BEGIN:VCALENDAR
VERSION:2.0
PRODID:-//Property Owners of Gulf Cove - ECPv6.15.20//NONSGML v1.0//EN
CALSCALE:GREGORIAN
METHOD:PUBLISH
X-WR-CALNAME:Property Owners of Gulf Cove
X-ORIGINAL-URL:https://gulfcove.org
X-WR-CALDESC:Events for Property Owners of Gulf Cove
REFRESH-INTERVAL;VALUE=DURATION:PT1H
X-Robots-Tag:noindex
X-PUBLISHED-TTL:PT1H
BEGIN:VTIMEZONE
TZID:America/New_York
BEGIN:DAYLIGHT
TZOFFSETFROM:-0500
TZOFFSETTO:-0400
TZNAME:EDT
DTSTART:20230312T070000
END:DAYLIGHT
BEGIN:STANDARD
TZOFFSETFROM:-0400
TZOFFSETTO:-0500
TZNAME:EST
DTSTART:20231105T060000
END:STANDARD
BEGIN:DAYLIGHT
TZOFFSETFROM:-0500
TZOFFSETTO:-0400
TZNAME:EDT
DTSTART:20240310T070000
END:DAYLIGHT
BEGIN:STANDARD
TZOFFSETFROM:-0400
TZOFFSETTO:-0500
TZNAME:EST
DTSTART:20241103T060000
END:STANDARD
BEGIN:DAYLIGHT
TZOFFSETFROM:-0500
TZOFFSETTO:-0400
TZNAME:EDT
DTSTART:20250309T070000
END:DAYLIGHT
BEGIN:STANDARD
TZOFFSETFROM:-0400
TZOFFSETTO:-0500
TZNAME:EST
DTSTART:20251102T060000
END:STANDARD
BEGIN:DAYLIGHT
TZOFFSETFROM:-0500
TZOFFSETTO:-0400
TZNAME:EDT
DTSTART:20260308T070000
END:DAYLIGHT
BEGIN:STANDARD
TZOFFSETFROM:-0400
TZOFFSETTO:-0500
TZNAME:EST
DTSTART:20261101T060000
END:STANDARD
BEGIN:DAYLIGHT
TZOFFSETFROM:-0500
TZOFFSETTO:-0400
TZNAME:EDT
DTSTART:20270314T070000
END:DAYLIGHT
BEGIN:STANDARD
TZOFFSETFROM:-0400
TZOFFSETTO:-0500
TZNAME:EST
DTSTART:20271107T060000
END:STANDARD
END:VTIMEZONE
BEGIN:VEVENT
DTSTART;TZID=America/New_York:20260407T183000
DTEND;TZID=America/New_York:20260407T193000
DTSTAMP:20260422T065103
CREATED:20260125T171200Z
LAST-MODIFIED:20260125T171200Z
UID:5767-1775586600-1775590200@gulfcove.org
SUMMARY:POGC Board Meeting - 4/7/26
DESCRIPTION:
URL:https://gulfcove.org/event/pogc-board-meeting-4-7-26/
CATEGORIES:POGC Board Meetings
END:VEVENT
BEGIN:VEVENT
DTSTART;TZID=America/New_York:20260303T183000
DTEND;TZID=America/New_York:20260303T193000
DTSTAMP:20260422T065103
CREATED:20260125T170621Z
LAST-MODIFIED:20260125T170621Z
UID:5762-1772562600-1772566200@gulfcove.org
SUMMARY:POGC Board Meeting - 3/3/26
DESCRIPTION:
URL:https://gulfcove.org/event/pogc-board-meeting-3-3-26/
CATEGORIES:POGC Board Meetings
END:VEVENT
BEGIN:VEVENT
DTSTART;TZID=America/New_York:20260203T183000
DTEND;TZID=America/New_York:20260203T193000
DTSTAMP:20260422T065103
CREATED:20260125T164514Z
LAST-MODIFIED:20260125T170705Z
UID:5753-1770143400-1770147000@gulfcove.org
SUMMARY:POGC Board Meeting - 2/3/26
DESCRIPTION:
URL:https://gulfcove.org/event/pogc-board-meeting-2/
CATEGORIES:POGC Board Meetings
END:VEVENT
BEGIN:VEVENT
DTSTART;TZID=America/New_York:20260106T183000
DTEND;TZID=America/New_York:20260106T200000
DTSTAMP:20260422T065103
CREATED:20251019T163002Z
LAST-MODIFIED:20251019T163002Z
UID:4458-1767724200-1767729600@gulfcove.org
SUMMARY:POGC Board Meeting - 1/6/26
DESCRIPTION:
URL:https://gulfcove.org/event/pogc-board-meeting-1-6-26/
CATEGORIES:POGC Board Meetings
END:VEVENT
BEGIN:VEVENT
DTSTART;TZID=America/New_York:20251202T183000
DTEND;TZID=America/New_York:20251202T200000
DTSTAMP:20260422T065103
CREATED:20251019T162407Z
LAST-MODIFIED:20251019T162407Z
UID:4454-1764700200-1764705600@gulfcove.org
SUMMARY:POGC Board Meeting - 12/2/25
DESCRIPTION:
URL:https://gulfcove.org/event/pogc-board-meeting-12-2-25/
CATEGORIES:POGC Board Meetings
END:VEVENT
BEGIN:VEVENT
DTSTART;TZID=America/New_York:20251104T183000
DTEND;TZID=America/New_York:20251104T200000
DTSTAMP:20260422T065103
CREATED:20251019T161744Z
LAST-MODIFIED:20251019T161744Z
UID:4450-1762281000-1762286400@gulfcove.org
SUMMARY:POGC Board Meeting
DESCRIPTION:
URL:https://gulfcove.org/event/pogc-board-meeting/
CATEGORIES:POGC Board Meetings
END:VEVENT
BEGIN:VEVENT
DTSTART;TZID=America/New_York:20250506T183000
DTEND;TZID=America/New_York:20250506T200000
DTSTAMP:20260422T065103
CREATED:20240908T220206Z
LAST-MODIFIED:20240908T220206Z
UID:3935-1746556200-1746561600@gulfcove.org
SUMMARY:POGC Board Meeting: 5/6/25
DESCRIPTION:
URL:https://gulfcove.org/event/pogc-board-meeting-5-6-25/
LOCATION:5149 Norlander Drive Port Charlotte\, FL 33981\, 5149 Norlander Drive\, Port Charlotte\, FL\, 33981
CATEGORIES:POGC Board Meetings
END:VEVENT
BEGIN:VEVENT
DTSTART;TZID=America/New_York:20250401T183000
DTEND;TZID=America/New_York:20250401T200000
DTSTAMP:20260422T065103
CREATED:20240908T215232Z
LAST-MODIFIED:20240908T220704Z
UID:3929-1743532200-1743537600@gulfcove.org
SUMMARY:POGC Board Meeting: 4/1/25
DESCRIPTION:
URL:https://gulfcove.org/event/pogc-board-meeting-4-1-25/
LOCATION:5149 Norlander Drive Port Charlotte\, FL 33981\, 5149 Norlander Drive\, Port Charlotte\, FL\, 33981
CATEGORIES:POGC Board Meetings
END:VEVENT
BEGIN:VEVENT
DTSTART;TZID=America/New_York:20250304T183000
DTEND;TZID=America/New_York:20250304T200000
DTSTAMP:20260422T065103
CREATED:20240908T214659Z
LAST-MODIFIED:20240908T215818Z
UID:3924-1741113000-1741118400@gulfcove.org
SUMMARY:POGC Board Meeting: 3/4/25
DESCRIPTION:
URL:https://gulfcove.org/event/pogc-board-meeting-3-4-25/
LOCATION:5149 Norlander Drive Port Charlotte\, FL 33981\, 5149 Norlander Drive\, Port Charlotte\, FL\, 33981
CATEGORIES:POGC Board Meetings
END:VEVENT
BEGIN:VEVENT
DTSTART;TZID=America/New_York:20250204T183000
DTEND;TZID=America/New_York:20250204T200000
DTSTAMP:20260422T065103
CREATED:20240908T214012Z
LAST-MODIFIED:20240908T215927Z
UID:3916-1738693800-1738699200@gulfcove.org
SUMMARY:POGC Board Meeting: 2/4/25
DESCRIPTION:
URL:https://gulfcove.org/event/pogc-board-meeting-02-04-25/
LOCATION:5149 Norlander Drive Port Charlotte\, FL 33981\, 5149 Norlander Drive\, Port Charlotte\, FL\, 33981
CATEGORIES:POGC Board Meetings
END:VEVENT
BEGIN:VEVENT
DTSTART;TZID=America/New_York:20250107T183000
DTEND;TZID=America/New_York:20250107T200000
DTSTAMP:20260422T065103
CREATED:20240908T213721Z
LAST-MODIFIED:20240908T220013Z
UID:3913-1736274600-1736280000@gulfcove.org
SUMMARY:POGC Board Meeting: 1/7/25
DESCRIPTION:
URL:https://gulfcove.org/event/pogc-board-meeting-01-07-25/
LOCATION:5149 Norlander Drive Port Charlotte\, FL 33981\, 5149 Norlander Drive\, Port Charlotte\, FL\, 33981
CATEGORIES:POGC Board Meetings
END:VEVENT
BEGIN:VEVENT
DTSTART;TZID=America/New_York:20241203T183000
DTEND;TZID=America/New_York:20241203T200000
DTSTAMP:20260422T065103
CREATED:20240904T001520Z
LAST-MODIFIED:20240904T001520Z
UID:3885-1733250600-1733256000@gulfcove.org
SUMMARY:POGC Board Meeting: 12/3/24
DESCRIPTION:
URL:https://gulfcove.org/event/pogc-board-meeting-12-3-24/
CATEGORIES:POGC Board Meetings
END:VEVENT
BEGIN:VEVENT
DTSTART;TZID=America/New_York:20241105T183000
DTEND;TZID=America/New_York:20241105T200000
DTSTAMP:20260422T065103
CREATED:20240904T001337Z
LAST-MODIFIED:20240904T001853Z
UID:3883-1730831400-1730836800@gulfcove.org
SUMMARY:POGC Board Meeting: 11/5/24
DESCRIPTION:
URL:https://gulfcove.org/event/pogc-board-meeting-11-5-24/
CATEGORIES:POGC Board Meetings
END:VEVENT
BEGIN:VEVENT
DTSTART;TZID=America/New_York:20241001T183000
DTEND;TZID=America/New_York:20241001T200000
DTSTAMP:20260422T065103
CREATED:20240903T223059Z
LAST-MODIFIED:20240904T003359Z
UID:3881-1727807400-1727812800@gulfcove.org
SUMMARY:POGC Board Meeting: 10/1/24
DESCRIPTION:
URL:https://gulfcove.org/event/pogc-board-meeting-10-1-24/
CATEGORIES:POGC Board Meetings
END:VEVENT
BEGIN:VEVENT
DTSTART;TZID=America/New_York:20240903T183000
DTEND;TZID=America/New_York:20240903T200000
DTSTAMP:20260422T065103
CREATED:20240904T000820Z
LAST-MODIFIED:20240904T001119Z
UID:3879-1725388200-1725393600@gulfcove.org
SUMMARY:POGC Board Meeting: 9/3/24
DESCRIPTION:
URL:https://gulfcove.org/event/pogc-board-meeting-9-3-24/
CATEGORIES:POGC Board Meetings
END:VEVENT
BEGIN:VEVENT
DTSTART;TZID=America/New_York:20240507T000000
DTEND;TZID=America/New_York:20240507T000000
DTSTAMP:20260422T065103
CREATED:20240416T205231Z
LAST-MODIFIED:20240416T205231Z
UID:3267-1715040000-1715040000@gulfcove.org
SUMMARY:May 2024 POGC Board Meeting
DESCRIPTION:May 2024 POGC Board Meeting 5/7/24 at 6:30pm.
URL:https://gulfcove.org/event/may-2024-pogc-board-meeting/
CATEGORIES:POGC Board Meetings
ATTACH;FMTTYPE=image/jpeg:https://gulfcove.org/wp-content/uploads/2024/03/Rick-presenting-Janet-with-appreciation-award-e1713303401572.jpg
END:VEVENT
BEGIN:VEVENT
DTSTART;TZID=America/New_York:20240402T183000
DTEND;TZID=America/New_York:20240402T203000
DTSTAMP:20260422T065103
CREATED:20240403T043211Z
LAST-MODIFIED:20240416T213725Z
UID:2927-1712082600-1712089800@gulfcove.org
SUMMARY:April 2024 POGC Board Meeting
DESCRIPTION:April 2024 POGC Board Meeting 4/2/24 at 6:30pm.
URL:https://gulfcove.org/event/april-2024-pogc-board-meeting/
CATEGORIES:POGC Board Meetings
ATTACH;FMTTYPE=image/jpeg:https://gulfcove.org/wp-content/uploads/2024/03/Rick-presenting-Janet-with-appreciation-award-e1713303401572.jpg
END:VEVENT
END:VCALENDAR