BEGIN:VCALENDAR
VERSION:2.0
PRODID:-//Property Owners of Gulf Cove - ECPv6.15.20//NONSGML v1.0//EN
CALSCALE:GREGORIAN
METHOD:PUBLISH
X-ORIGINAL-URL:https://gulfcove.org
X-WR-CALDESC:Events for Property Owners of Gulf Cove
REFRESH-INTERVAL;VALUE=DURATION:PT1H
X-Robots-Tag:noindex
X-PUBLISHED-TTL:PT1H
BEGIN:VTIMEZONE
TZID:America/New_York
BEGIN:DAYLIGHT
TZOFFSETFROM:-0500
TZOFFSETTO:-0400
TZNAME:EDT
DTSTART:20250309T070000
END:DAYLIGHT
BEGIN:STANDARD
TZOFFSETFROM:-0400
TZOFFSETTO:-0500
TZNAME:EST
DTSTART:20251102T060000
END:STANDARD
BEGIN:DAYLIGHT
TZOFFSETFROM:-0500
TZOFFSETTO:-0400
TZNAME:EDT
DTSTART:20260308T070000
END:DAYLIGHT
BEGIN:STANDARD
TZOFFSETFROM:-0400
TZOFFSETTO:-0500
TZNAME:EST
DTSTART:20261101T060000
END:STANDARD
BEGIN:DAYLIGHT
TZOFFSETFROM:-0500
TZOFFSETTO:-0400
TZNAME:EDT
DTSTART:20270314T070000
END:DAYLIGHT
BEGIN:STANDARD
TZOFFSETFROM:-0400
TZOFFSETTO:-0500
TZNAME:EST
DTSTART:20271107T060000
END:STANDARD
END:VTIMEZONE
BEGIN:VEVENT
DTSTART;TZID=America/New_York:20260321T090000
DTEND;TZID=America/New_York:20260321T120000
DTSTAMP:20260420T184416
CREATED:20260125T172405Z
LAST-MODIFIED:20260125T172628Z
UID:5773-1774083600-1774094400@gulfcove.org
SUMMARY:Park Beautification Day - 3/21/26
DESCRIPTION:Volunteers needed to help clean up at the park.  This includes helping to pick up trash\, brush\, weeding\, etc.
URL:https://gulfcove.org/event/park-beautification-day-3-21-26/
LOCATION:5149 Norlander Drive Port Charlotte\, FL 33981\, 5149 Norlander Drive\, Port Charlotte\, FL\, 33981
END:VEVENT
BEGIN:VEVENT
DTSTART;TZID=America/New_York:20260321T140000
DTEND;TZID=America/New_York:20260321T180000
DTSTAMP:20260420T184416
CREATED:20260125T170150Z
LAST-MODIFIED:20260125T170150Z
UID:5760-1774101600-1774116000@gulfcove.org
SUMMARY:Pavilion Reservation (Private Event) - 3/21/26
DESCRIPTION:
URL:https://gulfcove.org/event/pavilion-reservation-private-event-3-21-26/
LOCATION:5149 Norlander Drive Port Charlotte\, FL 33981\, 5149 Norlander Drive\, Port Charlotte\, FL\, 33981
CATEGORIES:Pavilion Reserved Event
END:VEVENT
END:VCALENDAR