BEGIN:VCALENDAR
VERSION:2.0
PRODID:-//Property Owners of Gulf Cove - ECPv6.15.20//NONSGML v1.0//EN
CALSCALE:GREGORIAN
METHOD:PUBLISH
X-ORIGINAL-URL:https://gulfcove.org
X-WR-CALDESC:Events for Property Owners of Gulf Cove
REFRESH-INTERVAL;VALUE=DURATION:PT1H
X-Robots-Tag:noindex
X-PUBLISHED-TTL:PT1H
BEGIN:VTIMEZONE
TZID:America/New_York
BEGIN:DAYLIGHT
TZOFFSETFROM:-0500
TZOFFSETTO:-0400
TZNAME:EDT
DTSTART:20250309T070000
END:DAYLIGHT
BEGIN:STANDARD
TZOFFSETFROM:-0400
TZOFFSETTO:-0500
TZNAME:EST
DTSTART:20251102T060000
END:STANDARD
BEGIN:DAYLIGHT
TZOFFSETFROM:-0500
TZOFFSETTO:-0400
TZNAME:EDT
DTSTART:20260308T070000
END:DAYLIGHT
BEGIN:STANDARD
TZOFFSETFROM:-0400
TZOFFSETTO:-0500
TZNAME:EST
DTSTART:20261101T060000
END:STANDARD
BEGIN:DAYLIGHT
TZOFFSETFROM:-0500
TZOFFSETTO:-0400
TZNAME:EDT
DTSTART:20270314T070000
END:DAYLIGHT
BEGIN:STANDARD
TZOFFSETFROM:-0400
TZOFFSETTO:-0500
TZNAME:EST
DTSTART:20271107T060000
END:STANDARD
END:VTIMEZONE
BEGIN:VEVENT
DTSTART;TZID=America/New_York:20260221T100000
DTEND;TZID=America/New_York:20260221T160000
DTSTAMP:20260419T222958
CREATED:20251126T005725Z
LAST-MODIFIED:20251126T005725Z
UID:4495-1771668000-1771689600@gulfcove.org
SUMMARY:2nd Annual POGC Nautical Fest & Craft Fair
DESCRIPTION:February 21st\, Rain Date is February 22nd. Calling all vendors! Sign up to be a vendor at this incredible event: https://gulfcove.org/2nd-annual-nautical-fest-craft-fair-call-for-vendors/ \n 
URL:https://gulfcove.org/event/2nd-annual-nautical-fest-craft-fair/
LOCATION:5149 Norlander Drive Port Charlotte\, FL 33981\, 5149 Norlander Drive\, Port Charlotte\, FL\, 33981
CATEGORIES:Public Events
ATTACH;FMTTYPE=image/png:https://gulfcove.org/wp-content/uploads/2024/06/Nautical-Fest-and-Craft-Fair-Flyer.png
END:VEVENT
END:VCALENDAR