BEGIN:VCALENDAR
VERSION:2.0
PRODID:-//Property Owners of Gulf Cove - ECPv6.15.20//NONSGML v1.0//EN
CALSCALE:GREGORIAN
METHOD:PUBLISH
X-ORIGINAL-URL:https://gulfcove.org
X-WR-CALDESC:Events for Property Owners of Gulf Cove
REFRESH-INTERVAL;VALUE=DURATION:PT1H
X-Robots-Tag:noindex
X-PUBLISHED-TTL:PT1H
BEGIN:VTIMEZONE
TZID:America/New_York
BEGIN:DAYLIGHT
TZOFFSETFROM:-0500
TZOFFSETTO:-0400
TZNAME:EDT
DTSTART:20240310T070000
END:DAYLIGHT
BEGIN:STANDARD
TZOFFSETFROM:-0400
TZOFFSETTO:-0500
TZNAME:EST
DTSTART:20241103T060000
END:STANDARD
BEGIN:DAYLIGHT
TZOFFSETFROM:-0500
TZOFFSETTO:-0400
TZNAME:EDT
DTSTART:20250309T070000
END:DAYLIGHT
BEGIN:STANDARD
TZOFFSETFROM:-0400
TZOFFSETTO:-0500
TZNAME:EST
DTSTART:20251102T060000
END:STANDARD
BEGIN:DAYLIGHT
TZOFFSETFROM:-0500
TZOFFSETTO:-0400
TZNAME:EDT
DTSTART:20260308T070000
END:DAYLIGHT
BEGIN:STANDARD
TZOFFSETFROM:-0400
TZOFFSETTO:-0500
TZNAME:EST
DTSTART:20261101T060000
END:STANDARD
END:VTIMEZONE
BEGIN:VEVENT
DTSTART;TZID=America/New_York:20250524T090000
DTEND;TZID=America/New_York:20250524T120000
DTSTAMP:20260420T084107
CREATED:20250127T203353Z
LAST-MODIFIED:20250404T140658Z
UID:4128-1748077200-1748088000@gulfcove.org
SUMMARY:Park Clean Up - 5/24/25
DESCRIPTION:
URL:https://gulfcove.org/event/pogc-membership-meeting-3-18-25-2-2-2/
LOCATION:5149 Norlander Drive Port Charlotte\, FL 33981\, 5149 Norlander Drive\, Port Charlotte\, FL\, 33981
CATEGORIES:POGC Residents
END:VEVENT
BEGIN:VEVENT
DTSTART;TZID=America/New_York:20250524T140000
DTEND;TZID=America/New_York:20250524T200000
DTSTAMP:20260420T084107
CREATED:20250421T162226Z
LAST-MODIFIED:20250421T162615Z
UID:4360-1748095200-1748116800@gulfcove.org
SUMMARY:Birthday party
DESCRIPTION:Reserved by Peter & Tanya Rozvodovskkiy -30 people
URL:https://gulfcove.org/event/birthday-party/
LOCATION:5149 Norlander Drive Port Charlotte\, FL 33981\, 5149 Norlander Drive\, Port Charlotte\, FL\, 33981
END:VEVENT
END:VCALENDAR