BEGIN:VCALENDAR
VERSION:2.0
PRODID:-//Property Owners of Gulf Cove - ECPv6.15.20//NONSGML v1.0//EN
CALSCALE:GREGORIAN
METHOD:PUBLISH
X-WR-CALNAME:Property Owners of Gulf Cove
X-ORIGINAL-URL:https://gulfcove.org
X-WR-CALDESC:Events for Property Owners of Gulf Cove
REFRESH-INTERVAL;VALUE=DURATION:PT1H
X-Robots-Tag:noindex
X-PUBLISHED-TTL:PT1H
BEGIN:VTIMEZONE
TZID:America/New_York
BEGIN:DAYLIGHT
TZOFFSETFROM:-0500
TZOFFSETTO:-0400
TZNAME:EDT
DTSTART:20240310T070000
END:DAYLIGHT
BEGIN:STANDARD
TZOFFSETFROM:-0400
TZOFFSETTO:-0500
TZNAME:EST
DTSTART:20241103T060000
END:STANDARD
BEGIN:DAYLIGHT
TZOFFSETFROM:-0500
TZOFFSETTO:-0400
TZNAME:EDT
DTSTART:20250309T070000
END:DAYLIGHT
BEGIN:STANDARD
TZOFFSETFROM:-0400
TZOFFSETTO:-0500
TZNAME:EST
DTSTART:20251102T060000
END:STANDARD
BEGIN:DAYLIGHT
TZOFFSETFROM:-0500
TZOFFSETTO:-0400
TZNAME:EDT
DTSTART:20260308T070000
END:DAYLIGHT
BEGIN:STANDARD
TZOFFSETFROM:-0400
TZOFFSETTO:-0500
TZNAME:EST
DTSTART:20261101T060000
END:STANDARD
END:VTIMEZONE
BEGIN:VEVENT
DTSTART;TZID=America/New_York:20250215T090000
DTEND;TZID=America/New_York:20250215T120000
DTSTAMP:20260419T195117
CREATED:20250127T204901Z
LAST-MODIFIED:20250127T204901Z
UID:4144-1739610000-1739620800@gulfcove.org
SUMMARY:Park Clean Up - 2/15/25
DESCRIPTION:
URL:https://gulfcove.org/event/pogc-membership-meeting-3-18-25-2-2-2-2-2-6-2/
LOCATION:FL
CATEGORIES:POGC Residents
END:VEVENT
END:VCALENDAR